BEGIN:VCALENDAR
VERSION:2.0
PRODID:Events Booking
BEGIN:VEVENT
UID:69e4f53ea1ba9
SUMMARY:09/04 (6:00 PM) - Online Info Session on the VKI Academic Programme
 s
DESCRIPTION:We would like to inform graduate and undergraduate students abo
 ut the opportunity they have to join the VKI Academic programs and to be p
 art of the scientific development of their country in several domains incl
 uding several domains of fluid dynamics research. These include aerospace\
 , hypersonics\, aeroacoustics\, turbomachinery\, decarbonization\, industr
 ial &amp\; chemical processes\, environment and fluids engineering\, measu
 rement techniques\, and machine learning...
 The von Karman Institute for
  Fluid Dynamics invites students to attend an online info session about it
 s academic programs on April 9 at 6:00 PM (Brussels CEST).
 We will prese
 nt the 9-month research master in fluid dynamics (master-after-master leve
 l)\, the 2-6 month short training program\, as well as Doctoral and Postdo
 ctoral opportunities. Alumni and VKI students will share their experience
  with the participants.
 The information to join the session will be sent
  after registration.
 There is no tuition fee for students who are  citi
 zens from the contributing countries* to the funding of VKI. VKI fellowshi
 ps are also available for those citizens.
 *Belgium\, Bulgaria\, Czech Re
 public\, France\, Germany\, Greece\, Hungary\, Iceland\, Italy\, Luxembour
 g\, Norway\, Portugal\, Romania\, Turkey\, The Netherlands\, The United St
 ates of America
 This event is open to public in respect with the VKI eli
 gibility criteria.
 Before registering\, please check if you are eligible
 .
DTSTART:20240409T180000Z
DTEND:20240409T190000Z
DTSTAMP:20220504T125128Z
ORGANIZER;CN=VKI Secretariat:MAILTO:secretariat@vki.ac.be
END:VEVENT
END:VCALENDAR